BEGIN:VCALENDAR
VERSION:2.0
PRODID:-//in Toto - ECPv6.0.12//NONSGML v1.0//EN
CALSCALE:GREGORIAN
METHOD:PUBLISH
X-WR-CALNAME:in Toto
X-ORIGINAL-URL:https://www.parentsintoto.org
X-WR-CALDESC:Events for in Toto
REFRESH-INTERVAL;VALUE=DURATION:PT1H
X-Robots-Tag:noindex
X-PUBLISHED-TTL:PT1H
BEGIN:VTIMEZONE
TZID:America/New_York
BEGIN:DAYLIGHT
TZOFFSETFROM:-0500
TZOFFSETTO:-0400
TZNAME:EDT
DTSTART:20230312T070000
END:DAYLIGHT
BEGIN:STANDARD
TZOFFSETFROM:-0400
TZOFFSETTO:-0500
TZNAME:EST
DTSTART:20231105T060000
END:STANDARD
END:VTIMEZONE
BEGIN:VEVENT
DTSTART;TZID=America/New_York:20230211T120000
DTEND;TZID=America/New_York:20230211T133000
DTSTAMP:20260425T115105
CREATED:20221230T224201Z
LAST-MODIFIED:20240621T223618Z
UID:10002829-1676116800-1676122200@www.parentsintoto.org
SUMMARY:Game Day\, in person
DESCRIPTION:[vc_row][vc_column][vc_column_text]Join us Saturdays at Toto from 12:00-1:30pm for game time! Bring your favorite board\, card or video game to share or play one of ours! \nThe last Saturday of each month\, we are closed but you can join us online for gaming that day![/vc_column_text][/vc_column][/vc_row][vc_row][vc_column]RSVP Here [/vc_column][/vc_row]
URL:https://www.parentsintoto.org/event/game-day-in-person/2023-02-11
LOCATION:in Toto Community Resource Center\, 143 S. Main Street\, Zelienople\, PA\, 16063\, United States
CATEGORIES:Inclusive Autism Programs
ATTACH;FMTTYPE=image/png:https://www.parentsintoto.org/wp-content/uploads/2022/08/Inclusive-Autism-Program-ideas-2.png
END:VEVENT
BEGIN:VEVENT
DTSTART;TZID=America/New_York:20230215T163000
DTEND;TZID=America/New_York:20230215T173000
DTSTAMP:20260425T115105
CREATED:20221228T223316Z
LAST-MODIFIED:20250723T222755Z
UID:10002948-1676478600-1676482200@www.parentsintoto.org
SUMMARY:Teen Group\, In Person
DESCRIPTION:[vc_row][vc_column][vc_column_text]Connect with teens ages 13 to 17 and share interests\, ideas and play some games! We will meet in person at Toto on Wednesdays from 4:30-5:30pm![/vc_column_text][/vc_column][/vc_row][vc_row][vc_column]RSVP Here [/vc_column][/vc_row]
URL:https://www.parentsintoto.org/event/teen-group-in-person/2023-02-15
LOCATION:in Toto Community Resource Center\, 143 S. Main Street\, Zelienople\, PA\, 16063\, United States
CATEGORIES:Inclusive Autism Programs
ATTACH;FMTTYPE=image/png:https://www.parentsintoto.org/wp-content/uploads/2022/08/Inclusive-Autism-Program-ideas-2.png
END:VEVENT
BEGIN:VEVENT
DTSTART;TZID=America/New_York:20230218T120000
DTEND;TZID=America/New_York:20230218T133000
DTSTAMP:20260425T115105
CREATED:20221230T224201Z
LAST-MODIFIED:20240621T223618Z
UID:10002830-1676721600-1676727000@www.parentsintoto.org
SUMMARY:Game Day\, in person
DESCRIPTION:[vc_row][vc_column][vc_column_text]Join us Saturdays at Toto from 12:00-1:30pm for game time! Bring your favorite board\, card or video game to share or play one of ours! \nThe last Saturday of each month\, we are closed but you can join us online for gaming that day![/vc_column_text][/vc_column][/vc_row][vc_row][vc_column]RSVP Here [/vc_column][/vc_row]
URL:https://www.parentsintoto.org/event/game-day-in-person/2023-02-18
LOCATION:in Toto Community Resource Center\, 143 S. Main Street\, Zelienople\, PA\, 16063\, United States
CATEGORIES:Inclusive Autism Programs
ATTACH;FMTTYPE=image/png:https://www.parentsintoto.org/wp-content/uploads/2022/08/Inclusive-Autism-Program-ideas-2.png
END:VEVENT
BEGIN:VEVENT
DTSTART;TZID=America/New_York:20230222T163000
DTEND;TZID=America/New_York:20230222T173000
DTSTAMP:20260425T115105
CREATED:20221228T223316Z
LAST-MODIFIED:20250723T222755Z
UID:10002949-1677083400-1677087000@www.parentsintoto.org
SUMMARY:Teen Group\, In Person
DESCRIPTION:[vc_row][vc_column][vc_column_text]Connect with teens ages 13 to 17 and share interests\, ideas and play some games! We will meet in person at Toto on Wednesdays from 4:30-5:30pm![/vc_column_text][/vc_column][/vc_row][vc_row][vc_column]RSVP Here [/vc_column][/vc_row]
URL:https://www.parentsintoto.org/event/teen-group-in-person/2023-02-22
LOCATION:in Toto Community Resource Center\, 143 S. Main Street\, Zelienople\, PA\, 16063\, United States
CATEGORIES:Inclusive Autism Programs
ATTACH;FMTTYPE=image/png:https://www.parentsintoto.org/wp-content/uploads/2022/08/Inclusive-Autism-Program-ideas-2.png
END:VEVENT
BEGIN:VEVENT
DTSTART;TZID=America/New_York:20230301T163000
DTEND;TZID=America/New_York:20230301T173000
DTSTAMP:20260425T115105
CREATED:20221228T223316Z
LAST-MODIFIED:20250723T222755Z
UID:10002950-1677688200-1677691800@www.parentsintoto.org
SUMMARY:Teen Group\, In Person
DESCRIPTION:[vc_row][vc_column][vc_column_text]Connect with teens ages 13 to 17 and share interests\, ideas and play some games! We will meet in person at Toto on Wednesdays from 4:30-5:30pm![/vc_column_text][/vc_column][/vc_row][vc_row][vc_column]RSVP Here [/vc_column][/vc_row]
URL:https://www.parentsintoto.org/event/teen-group-in-person/2023-03-01
LOCATION:in Toto Community Resource Center\, 143 S. Main Street\, Zelienople\, PA\, 16063\, United States
CATEGORIES:Inclusive Autism Programs
ATTACH;FMTTYPE=image/png:https://www.parentsintoto.org/wp-content/uploads/2022/08/Inclusive-Autism-Program-ideas-2.png
END:VEVENT
BEGIN:VEVENT
DTSTART;TZID=America/New_York:20230304T120000
DTEND;TZID=America/New_York:20230304T133000
DTSTAMP:20260425T115105
CREATED:20221230T224201Z
LAST-MODIFIED:20240621T223618Z
UID:10002831-1677931200-1677936600@www.parentsintoto.org
SUMMARY:Game Day\, in person
DESCRIPTION:[vc_row][vc_column][vc_column_text]Join us Saturdays at Toto from 12:00-1:30pm for game time! Bring your favorite board\, card or video game to share or play one of ours! \nThe last Saturday of each month\, we are closed but you can join us online for gaming that day![/vc_column_text][/vc_column][/vc_row][vc_row][vc_column]RSVP Here [/vc_column][/vc_row]
URL:https://www.parentsintoto.org/event/game-day-in-person/2023-03-04
LOCATION:in Toto Community Resource Center\, 143 S. Main Street\, Zelienople\, PA\, 16063\, United States
CATEGORIES:Inclusive Autism Programs
ATTACH;FMTTYPE=image/png:https://www.parentsintoto.org/wp-content/uploads/2022/08/Inclusive-Autism-Program-ideas-2.png
END:VEVENT
BEGIN:VEVENT
DTSTART;TZID=America/New_York:20230308T163000
DTEND;TZID=America/New_York:20230308T173000
DTSTAMP:20260425T115105
CREATED:20221228T223316Z
LAST-MODIFIED:20250723T222755Z
UID:10002951-1678293000-1678296600@www.parentsintoto.org
SUMMARY:Teen Group\, In Person
DESCRIPTION:[vc_row][vc_column][vc_column_text]Connect with teens ages 13 to 17 and share interests\, ideas and play some games! We will meet in person at Toto on Wednesdays from 4:30-5:30pm![/vc_column_text][/vc_column][/vc_row][vc_row][vc_column]RSVP Here [/vc_column][/vc_row]
URL:https://www.parentsintoto.org/event/teen-group-in-person/2023-03-08
LOCATION:in Toto Community Resource Center\, 143 S. Main Street\, Zelienople\, PA\, 16063\, United States
CATEGORIES:Inclusive Autism Programs
ATTACH;FMTTYPE=image/png:https://www.parentsintoto.org/wp-content/uploads/2022/08/Inclusive-Autism-Program-ideas-2.png
END:VEVENT
BEGIN:VEVENT
DTSTART;TZID=America/New_York:20230311T120000
DTEND;TZID=America/New_York:20230311T133000
DTSTAMP:20260425T115105
CREATED:20221230T224201Z
LAST-MODIFIED:20240621T223618Z
UID:10002832-1678536000-1678541400@www.parentsintoto.org
SUMMARY:Game Day\, in person
DESCRIPTION:[vc_row][vc_column][vc_column_text]Join us Saturdays at Toto from 12:00-1:30pm for game time! Bring your favorite board\, card or video game to share or play one of ours! \nThe last Saturday of each month\, we are closed but you can join us online for gaming that day![/vc_column_text][/vc_column][/vc_row][vc_row][vc_column]RSVP Here [/vc_column][/vc_row]
URL:https://www.parentsintoto.org/event/game-day-in-person/2023-03-11
LOCATION:in Toto Community Resource Center\, 143 S. Main Street\, Zelienople\, PA\, 16063\, United States
CATEGORIES:Inclusive Autism Programs
ATTACH;FMTTYPE=image/png:https://www.parentsintoto.org/wp-content/uploads/2022/08/Inclusive-Autism-Program-ideas-2.png
END:VEVENT
BEGIN:VEVENT
DTSTART;TZID=America/New_York:20230315T163000
DTEND;TZID=America/New_York:20230315T173000
DTSTAMP:20260425T115105
CREATED:20221228T223316Z
LAST-MODIFIED:20250723T222755Z
UID:10002952-1678897800-1678901400@www.parentsintoto.org
SUMMARY:Teen Group\, In Person
DESCRIPTION:[vc_row][vc_column][vc_column_text]Connect with teens ages 13 to 17 and share interests\, ideas and play some games! We will meet in person at Toto on Wednesdays from 4:30-5:30pm![/vc_column_text][/vc_column][/vc_row][vc_row][vc_column]RSVP Here [/vc_column][/vc_row]
URL:https://www.parentsintoto.org/event/teen-group-in-person/2023-03-15
LOCATION:in Toto Community Resource Center\, 143 S. Main Street\, Zelienople\, PA\, 16063\, United States
CATEGORIES:Inclusive Autism Programs
ATTACH;FMTTYPE=image/png:https://www.parentsintoto.org/wp-content/uploads/2022/08/Inclusive-Autism-Program-ideas-2.png
END:VEVENT
BEGIN:VEVENT
DTSTART;TZID=America/New_York:20230318T120000
DTEND;TZID=America/New_York:20230318T133000
DTSTAMP:20260425T115105
CREATED:20221230T224201Z
LAST-MODIFIED:20240621T223618Z
UID:10002833-1679140800-1679146200@www.parentsintoto.org
SUMMARY:Game Day\, in person
DESCRIPTION:[vc_row][vc_column][vc_column_text]Join us Saturdays at Toto from 12:00-1:30pm for game time! Bring your favorite board\, card or video game to share or play one of ours! \nThe last Saturday of each month\, we are closed but you can join us online for gaming that day![/vc_column_text][/vc_column][/vc_row][vc_row][vc_column]RSVP Here [/vc_column][/vc_row]
URL:https://www.parentsintoto.org/event/game-day-in-person/2023-03-18
LOCATION:in Toto Community Resource Center\, 143 S. Main Street\, Zelienople\, PA\, 16063\, United States
CATEGORIES:Inclusive Autism Programs
ATTACH;FMTTYPE=image/png:https://www.parentsintoto.org/wp-content/uploads/2022/08/Inclusive-Autism-Program-ideas-2.png
END:VEVENT
BEGIN:VEVENT
DTSTART;TZID=America/New_York:20230322T163000
DTEND;TZID=America/New_York:20230322T173000
DTSTAMP:20260425T115105
CREATED:20221228T223316Z
LAST-MODIFIED:20250723T222755Z
UID:10002953-1679502600-1679506200@www.parentsintoto.org
SUMMARY:Teen Group\, In Person
DESCRIPTION:[vc_row][vc_column][vc_column_text]Connect with teens ages 13 to 17 and share interests\, ideas and play some games! We will meet in person at Toto on Wednesdays from 4:30-5:30pm![/vc_column_text][/vc_column][/vc_row][vc_row][vc_column]RSVP Here [/vc_column][/vc_row]
URL:https://www.parentsintoto.org/event/teen-group-in-person/2023-03-22
LOCATION:in Toto Community Resource Center\, 143 S. Main Street\, Zelienople\, PA\, 16063\, United States
CATEGORIES:Inclusive Autism Programs
ATTACH;FMTTYPE=image/png:https://www.parentsintoto.org/wp-content/uploads/2022/08/Inclusive-Autism-Program-ideas-2.png
END:VEVENT
BEGIN:VEVENT
DTSTART;TZID=America/New_York:20230329T163000
DTEND;TZID=America/New_York:20230329T173000
DTSTAMP:20260425T115105
CREATED:20221228T223316Z
LAST-MODIFIED:20250723T222755Z
UID:10002954-1680107400-1680111000@www.parentsintoto.org
SUMMARY:Teen Group\, In Person
DESCRIPTION:[vc_row][vc_column][vc_column_text]Connect with teens ages 13 to 17 and share interests\, ideas and play some games! We will meet in person at Toto on Wednesdays from 4:30-5:30pm![/vc_column_text][/vc_column][/vc_row][vc_row][vc_column]RSVP Here [/vc_column][/vc_row]
URL:https://www.parentsintoto.org/event/teen-group-in-person/2023-03-29
LOCATION:in Toto Community Resource Center\, 143 S. Main Street\, Zelienople\, PA\, 16063\, United States
CATEGORIES:Inclusive Autism Programs
ATTACH;FMTTYPE=image/png:https://www.parentsintoto.org/wp-content/uploads/2022/08/Inclusive-Autism-Program-ideas-2.png
END:VEVENT
BEGIN:VEVENT
DTSTART;TZID=America/New_York:20230401T120000
DTEND;TZID=America/New_York:20230401T133000
DTSTAMP:20260425T115105
CREATED:20221230T224201Z
LAST-MODIFIED:20240621T223618Z
UID:10002834-1680350400-1680355800@www.parentsintoto.org
SUMMARY:Game Day\, in person
DESCRIPTION:[vc_row][vc_column][vc_column_text]Join us Saturdays at Toto from 12:00-1:30pm for game time! Bring your favorite board\, card or video game to share or play one of ours! \nThe last Saturday of each month\, we are closed but you can join us online for gaming that day![/vc_column_text][/vc_column][/vc_row][vc_row][vc_column]RSVP Here [/vc_column][/vc_row]
URL:https://www.parentsintoto.org/event/game-day-in-person/2023-04-01
LOCATION:in Toto Community Resource Center\, 143 S. Main Street\, Zelienople\, PA\, 16063\, United States
CATEGORIES:Inclusive Autism Programs
ATTACH;FMTTYPE=image/png:https://www.parentsintoto.org/wp-content/uploads/2022/08/Inclusive-Autism-Program-ideas-2.png
END:VEVENT
BEGIN:VEVENT
DTSTART;TZID=America/New_York:20230405T163000
DTEND;TZID=America/New_York:20230405T173000
DTSTAMP:20260425T115105
CREATED:20221228T223316Z
LAST-MODIFIED:20250723T222755Z
UID:10002955-1680712200-1680715800@www.parentsintoto.org
SUMMARY:Teen Group\, In Person
DESCRIPTION:[vc_row][vc_column][vc_column_text]Connect with teens ages 13 to 17 and share interests\, ideas and play some games! We will meet in person at Toto on Wednesdays from 4:30-5:30pm![/vc_column_text][/vc_column][/vc_row][vc_row][vc_column]RSVP Here [/vc_column][/vc_row]
URL:https://www.parentsintoto.org/event/teen-group-in-person/2023-04-05
LOCATION:in Toto Community Resource Center\, 143 S. Main Street\, Zelienople\, PA\, 16063\, United States
CATEGORIES:Inclusive Autism Programs
ATTACH;FMTTYPE=image/png:https://www.parentsintoto.org/wp-content/uploads/2022/08/Inclusive-Autism-Program-ideas-2.png
END:VEVENT
BEGIN:VEVENT
DTSTART;TZID=America/New_York:20230408T120000
DTEND;TZID=America/New_York:20230408T133000
DTSTAMP:20260425T115105
CREATED:20221230T224201Z
LAST-MODIFIED:20240621T223618Z
UID:10002835-1680955200-1680960600@www.parentsintoto.org
SUMMARY:Game Day\, in person
DESCRIPTION:[vc_row][vc_column][vc_column_text]Join us Saturdays at Toto from 12:00-1:30pm for game time! Bring your favorite board\, card or video game to share or play one of ours! \nThe last Saturday of each month\, we are closed but you can join us online for gaming that day![/vc_column_text][/vc_column][/vc_row][vc_row][vc_column]RSVP Here [/vc_column][/vc_row]
URL:https://www.parentsintoto.org/event/game-day-in-person/2023-04-08
LOCATION:in Toto Community Resource Center\, 143 S. Main Street\, Zelienople\, PA\, 16063\, United States
CATEGORIES:Inclusive Autism Programs
ATTACH;FMTTYPE=image/png:https://www.parentsintoto.org/wp-content/uploads/2022/08/Inclusive-Autism-Program-ideas-2.png
END:VEVENT
BEGIN:VEVENT
DTSTART;TZID=America/New_York:20230412T163000
DTEND;TZID=America/New_York:20230412T173000
DTSTAMP:20260425T115105
CREATED:20221228T223316Z
LAST-MODIFIED:20250723T222755Z
UID:10002956-1681317000-1681320600@www.parentsintoto.org
SUMMARY:Teen Group\, In Person
DESCRIPTION:[vc_row][vc_column][vc_column_text]Connect with teens ages 13 to 17 and share interests\, ideas and play some games! We will meet in person at Toto on Wednesdays from 4:30-5:30pm![/vc_column_text][/vc_column][/vc_row][vc_row][vc_column]RSVP Here [/vc_column][/vc_row]
URL:https://www.parentsintoto.org/event/teen-group-in-person/2023-04-12
LOCATION:in Toto Community Resource Center\, 143 S. Main Street\, Zelienople\, PA\, 16063\, United States
CATEGORIES:Inclusive Autism Programs
ATTACH;FMTTYPE=image/png:https://www.parentsintoto.org/wp-content/uploads/2022/08/Inclusive-Autism-Program-ideas-2.png
END:VEVENT
BEGIN:VEVENT
DTSTART;TZID=America/New_York:20230415T120000
DTEND;TZID=America/New_York:20230415T133000
DTSTAMP:20260425T115105
CREATED:20221230T224201Z
LAST-MODIFIED:20240621T223618Z
UID:10002836-1681560000-1681565400@www.parentsintoto.org
SUMMARY:Game Day\, in person
DESCRIPTION:[vc_row][vc_column][vc_column_text]Join us Saturdays at Toto from 12:00-1:30pm for game time! Bring your favorite board\, card or video game to share or play one of ours! \nThe last Saturday of each month\, we are closed but you can join us online for gaming that day![/vc_column_text][/vc_column][/vc_row][vc_row][vc_column]RSVP Here [/vc_column][/vc_row]
URL:https://www.parentsintoto.org/event/game-day-in-person/2023-04-15
LOCATION:in Toto Community Resource Center\, 143 S. Main Street\, Zelienople\, PA\, 16063\, United States
CATEGORIES:Inclusive Autism Programs
ATTACH;FMTTYPE=image/png:https://www.parentsintoto.org/wp-content/uploads/2022/08/Inclusive-Autism-Program-ideas-2.png
END:VEVENT
BEGIN:VEVENT
DTSTART;TZID=America/New_York:20230419T163000
DTEND;TZID=America/New_York:20230419T173000
DTSTAMP:20260425T115105
CREATED:20221228T223316Z
LAST-MODIFIED:20250723T222755Z
UID:10002957-1681921800-1681925400@www.parentsintoto.org
SUMMARY:Teen Group\, In Person
DESCRIPTION:[vc_row][vc_column][vc_column_text]Connect with teens ages 13 to 17 and share interests\, ideas and play some games! We will meet in person at Toto on Wednesdays from 4:30-5:30pm![/vc_column_text][/vc_column][/vc_row][vc_row][vc_column]RSVP Here [/vc_column][/vc_row]
URL:https://www.parentsintoto.org/event/teen-group-in-person/2023-04-19
LOCATION:in Toto Community Resource Center\, 143 S. Main Street\, Zelienople\, PA\, 16063\, United States
CATEGORIES:Inclusive Autism Programs
ATTACH;FMTTYPE=image/png:https://www.parentsintoto.org/wp-content/uploads/2022/08/Inclusive-Autism-Program-ideas-2.png
END:VEVENT
BEGIN:VEVENT
DTSTART;TZID=America/New_York:20230422T120000
DTEND;TZID=America/New_York:20230422T133000
DTSTAMP:20260425T115105
CREATED:20221230T224201Z
LAST-MODIFIED:20240621T223618Z
UID:10002837-1682164800-1682170200@www.parentsintoto.org
SUMMARY:Game Day\, in person
DESCRIPTION:[vc_row][vc_column][vc_column_text]Join us Saturdays at Toto from 12:00-1:30pm for game time! Bring your favorite board\, card or video game to share or play one of ours! \nThe last Saturday of each month\, we are closed but you can join us online for gaming that day![/vc_column_text][/vc_column][/vc_row][vc_row][vc_column]RSVP Here [/vc_column][/vc_row]
URL:https://www.parentsintoto.org/event/game-day-in-person/2023-04-22
LOCATION:in Toto Community Resource Center\, 143 S. Main Street\, Zelienople\, PA\, 16063\, United States
CATEGORIES:Inclusive Autism Programs
ATTACH;FMTTYPE=image/png:https://www.parentsintoto.org/wp-content/uploads/2022/08/Inclusive-Autism-Program-ideas-2.png
END:VEVENT
BEGIN:VEVENT
DTSTART;TZID=America/New_York:20230426T163000
DTEND;TZID=America/New_York:20230426T173000
DTSTAMP:20260425T115105
CREATED:20221228T223316Z
LAST-MODIFIED:20250723T222755Z
UID:10002958-1682526600-1682530200@www.parentsintoto.org
SUMMARY:Teen Group\, In Person
DESCRIPTION:[vc_row][vc_column][vc_column_text]Connect with teens ages 13 to 17 and share interests\, ideas and play some games! We will meet in person at Toto on Wednesdays from 4:30-5:30pm![/vc_column_text][/vc_column][/vc_row][vc_row][vc_column]RSVP Here [/vc_column][/vc_row]
URL:https://www.parentsintoto.org/event/teen-group-in-person/2023-04-26
LOCATION:in Toto Community Resource Center\, 143 S. Main Street\, Zelienople\, PA\, 16063\, United States
CATEGORIES:Inclusive Autism Programs
ATTACH;FMTTYPE=image/png:https://www.parentsintoto.org/wp-content/uploads/2022/08/Inclusive-Autism-Program-ideas-2.png
END:VEVENT
BEGIN:VEVENT
DTSTART;TZID=America/New_York:20230503T163000
DTEND;TZID=America/New_York:20230503T173000
DTSTAMP:20260425T115105
CREATED:20221228T223316Z
LAST-MODIFIED:20250723T222755Z
UID:10002959-1683131400-1683135000@www.parentsintoto.org
SUMMARY:Teen Group\, In Person
DESCRIPTION:[vc_row][vc_column][vc_column_text]Connect with teens ages 13 to 17 and share interests\, ideas and play some games! We will meet in person at Toto on Wednesdays from 4:30-5:30pm![/vc_column_text][/vc_column][/vc_row][vc_row][vc_column]RSVP Here [/vc_column][/vc_row]
URL:https://www.parentsintoto.org/event/teen-group-in-person/2023-05-03
LOCATION:in Toto Community Resource Center\, 143 S. Main Street\, Zelienople\, PA\, 16063\, United States
CATEGORIES:Inclusive Autism Programs
ATTACH;FMTTYPE=image/png:https://www.parentsintoto.org/wp-content/uploads/2022/08/Inclusive-Autism-Program-ideas-2.png
END:VEVENT
BEGIN:VEVENT
DTSTART;TZID=America/New_York:20230506T120000
DTEND;TZID=America/New_York:20230506T133000
DTSTAMP:20260425T115105
CREATED:20221230T224201Z
LAST-MODIFIED:20240621T223618Z
UID:10002839-1683374400-1683379800@www.parentsintoto.org
SUMMARY:Game Day\, in person
DESCRIPTION:[vc_row][vc_column][vc_column_text]Join us Saturdays at Toto from 12:00-1:30pm for game time! Bring your favorite board\, card or video game to share or play one of ours! \nThe last Saturday of each month\, we are closed but you can join us online for gaming that day![/vc_column_text][/vc_column][/vc_row][vc_row][vc_column]RSVP Here [/vc_column][/vc_row]
URL:https://www.parentsintoto.org/event/game-day-in-person/2023-05-06
LOCATION:in Toto Community Resource Center\, 143 S. Main Street\, Zelienople\, PA\, 16063\, United States
CATEGORIES:Inclusive Autism Programs
ATTACH;FMTTYPE=image/png:https://www.parentsintoto.org/wp-content/uploads/2022/08/Inclusive-Autism-Program-ideas-2.png
END:VEVENT
BEGIN:VEVENT
DTSTART;TZID=America/New_York:20230512T163000
DTEND;TZID=America/New_York:20230512T173000
DTSTAMP:20260425T115105
CREATED:20230506T164849Z
LAST-MODIFIED:20250619T175947Z
UID:10003723-1683909000-1683912600@www.parentsintoto.org
SUMMARY:Toto Tools\, 6th through 12th grade
DESCRIPTION:[vc_row][vc_column][vc_column_text]Toto Tools is a structured program designed to aid students in exploring self awareness and self management through cooperative play\, hands on activities and instruction on a range of coping skills and feeling identification! Our curriculum will be customized to participant needs and personalities. Join us the last two Fridays of each month from 4:30-5:30PM.[/vc_column_text][/vc_column][/vc_row][vc_row][vc_column]RSVP Here [/vc_column][/vc_row]
URL:https://www.parentsintoto.org/event/toto-tools-6th-through-12th-grade/2023-05-12
LOCATION:in Toto Community Resource Center\, 143 S. Main Street\, Zelienople\, PA\, 16063\, United States
CATEGORIES:Inclusive Autism Programs
ATTACH;FMTTYPE=image/png:https://www.parentsintoto.org/wp-content/uploads/2022/08/Inclusive-Autism-Program-ideas-2.png
END:VEVENT
BEGIN:VEVENT
DTSTART;TZID=America/New_York:20230512T163000
DTEND;TZID=America/New_York:20230512T173000
DTSTAMP:20260425T115105
CREATED:20230506T164537Z
LAST-MODIFIED:20250919T200130Z
UID:10003675-1683909000-1683912600@www.parentsintoto.org
SUMMARY:Toto Tools\, 1st through 5th grade
DESCRIPTION:[vc_row][vc_column][vc_column_text]Toto Tools is a structured program designed to aid students in exploring self awareness and self management through cooperative play\, hands on activities and instruction on a range of coping skills and feeling identification! Our curriculum will be customized to participant needs and personalities. Join us the first two Fridays of each month from 4:30-5:30PM.[/vc_column_text][/vc_column][/vc_row][vc_row][vc_column]RSVP Here [/vc_column][/vc_row]
URL:https://www.parentsintoto.org/event/toto-tools-1st-through-5th-grade/2023-05-12
LOCATION:in Toto Community Resource Center\, 143 S. Main Street\, Zelienople\, PA\, 16063\, United States
CATEGORIES:Inclusive Autism Programs
ATTACH;FMTTYPE=image/png:https://www.parentsintoto.org/wp-content/uploads/2022/08/Inclusive-Autism-Program-ideas-2.png
END:VEVENT
BEGIN:VEVENT
DTSTART;TZID=America/New_York:20230513T120000
DTEND;TZID=America/New_York:20230513T133000
DTSTAMP:20260425T115105
CREATED:20221230T224201Z
LAST-MODIFIED:20240621T223618Z
UID:10002840-1683979200-1683984600@www.parentsintoto.org
SUMMARY:Game Day\, in person
DESCRIPTION:[vc_row][vc_column][vc_column_text]Join us Saturdays at Toto from 12:00-1:30pm for game time! Bring your favorite board\, card or video game to share or play one of ours! \nThe last Saturday of each month\, we are closed but you can join us online for gaming that day![/vc_column_text][/vc_column][/vc_row][vc_row][vc_column]RSVP Here [/vc_column][/vc_row]
URL:https://www.parentsintoto.org/event/game-day-in-person/2023-05-13
LOCATION:in Toto Community Resource Center\, 143 S. Main Street\, Zelienople\, PA\, 16063\, United States
CATEGORIES:Inclusive Autism Programs
ATTACH;FMTTYPE=image/png:https://www.parentsintoto.org/wp-content/uploads/2022/08/Inclusive-Autism-Program-ideas-2.png
END:VEVENT
BEGIN:VEVENT
DTSTART;TZID=America/New_York:20230517T163000
DTEND;TZID=America/New_York:20230517T173000
DTSTAMP:20260425T115105
CREATED:20221228T223316Z
LAST-MODIFIED:20250723T222755Z
UID:10002961-1684341000-1684344600@www.parentsintoto.org
SUMMARY:Teen Group\, In Person
DESCRIPTION:[vc_row][vc_column][vc_column_text]Connect with teens ages 13 to 17 and share interests\, ideas and play some games! We will meet in person at Toto on Wednesdays from 4:30-5:30pm![/vc_column_text][/vc_column][/vc_row][vc_row][vc_column]RSVP Here [/vc_column][/vc_row]
URL:https://www.parentsintoto.org/event/teen-group-in-person/2023-05-17
LOCATION:in Toto Community Resource Center\, 143 S. Main Street\, Zelienople\, PA\, 16063\, United States
CATEGORIES:Inclusive Autism Programs
ATTACH;FMTTYPE=image/png:https://www.parentsintoto.org/wp-content/uploads/2022/08/Inclusive-Autism-Program-ideas-2.png
END:VEVENT
BEGIN:VEVENT
DTSTART;TZID=America/New_York:20230519T163000
DTEND;TZID=America/New_York:20230519T173000
DTSTAMP:20260425T115105
CREATED:20230506T164849Z
LAST-MODIFIED:20250619T175947Z
UID:10003724-1684513800-1684517400@www.parentsintoto.org
SUMMARY:Toto Tools\, 6th through 12th grade
DESCRIPTION:[vc_row][vc_column][vc_column_text]Toto Tools is a structured program designed to aid students in exploring self awareness and self management through cooperative play\, hands on activities and instruction on a range of coping skills and feeling identification! Our curriculum will be customized to participant needs and personalities. Join us the last two Fridays of each month from 4:30-5:30PM.[/vc_column_text][/vc_column][/vc_row][vc_row][vc_column]RSVP Here [/vc_column][/vc_row]
URL:https://www.parentsintoto.org/event/toto-tools-6th-through-12th-grade/2023-05-19
LOCATION:in Toto Community Resource Center\, 143 S. Main Street\, Zelienople\, PA\, 16063\, United States
CATEGORIES:Inclusive Autism Programs
ATTACH;FMTTYPE=image/png:https://www.parentsintoto.org/wp-content/uploads/2022/08/Inclusive-Autism-Program-ideas-2.png
END:VEVENT
BEGIN:VEVENT
DTSTART;TZID=America/New_York:20230524T163000
DTEND;TZID=America/New_York:20230524T173000
DTSTAMP:20260425T115105
CREATED:20221228T223316Z
LAST-MODIFIED:20250723T222755Z
UID:10002962-1684945800-1684949400@www.parentsintoto.org
SUMMARY:Teen Group\, In Person
DESCRIPTION:[vc_row][vc_column][vc_column_text]Connect with teens ages 13 to 17 and share interests\, ideas and play some games! We will meet in person at Toto on Wednesdays from 4:30-5:30pm![/vc_column_text][/vc_column][/vc_row][vc_row][vc_column]RSVP Here [/vc_column][/vc_row]
URL:https://www.parentsintoto.org/event/teen-group-in-person/2023-05-24
LOCATION:in Toto Community Resource Center\, 143 S. Main Street\, Zelienople\, PA\, 16063\, United States
CATEGORIES:Inclusive Autism Programs
ATTACH;FMTTYPE=image/png:https://www.parentsintoto.org/wp-content/uploads/2022/08/Inclusive-Autism-Program-ideas-2.png
END:VEVENT
BEGIN:VEVENT
DTSTART;TZID=America/New_York:20230526T163000
DTEND;TZID=America/New_York:20230526T173000
DTSTAMP:20260425T115105
CREATED:20230506T164849Z
LAST-MODIFIED:20250619T175947Z
UID:10003725-1685118600-1685122200@www.parentsintoto.org
SUMMARY:Toto Tools\, 6th through 12th grade
DESCRIPTION:[vc_row][vc_column][vc_column_text]Toto Tools is a structured program designed to aid students in exploring self awareness and self management through cooperative play\, hands on activities and instruction on a range of coping skills and feeling identification! Our curriculum will be customized to participant needs and personalities. Join us the last two Fridays of each month from 4:30-5:30PM.[/vc_column_text][/vc_column][/vc_row][vc_row][vc_column]RSVP Here [/vc_column][/vc_row]
URL:https://www.parentsintoto.org/event/toto-tools-6th-through-12th-grade/2023-05-26
LOCATION:in Toto Community Resource Center\, 143 S. Main Street\, Zelienople\, PA\, 16063\, United States
CATEGORIES:Inclusive Autism Programs
ATTACH;FMTTYPE=image/png:https://www.parentsintoto.org/wp-content/uploads/2022/08/Inclusive-Autism-Program-ideas-2.png
END:VEVENT
BEGIN:VEVENT
DTSTART;TZID=America/New_York:20230531T163000
DTEND;TZID=America/New_York:20230531T173000
DTSTAMP:20260425T115105
CREATED:20221228T223316Z
LAST-MODIFIED:20250723T222755Z
UID:10002963-1685550600-1685554200@www.parentsintoto.org
SUMMARY:Teen Group\, In Person
DESCRIPTION:[vc_row][vc_column][vc_column_text]Connect with teens ages 13 to 17 and share interests\, ideas and play some games! We will meet in person at Toto on Wednesdays from 4:30-5:30pm![/vc_column_text][/vc_column][/vc_row][vc_row][vc_column]RSVP Here [/vc_column][/vc_row]
URL:https://www.parentsintoto.org/event/teen-group-in-person/2023-05-31
LOCATION:in Toto Community Resource Center\, 143 S. Main Street\, Zelienople\, PA\, 16063\, United States
CATEGORIES:Inclusive Autism Programs
ATTACH;FMTTYPE=image/png:https://www.parentsintoto.org/wp-content/uploads/2022/08/Inclusive-Autism-Program-ideas-2.png
END:VEVENT
END:VCALENDAR