BEGIN:VCALENDAR
VERSION:2.0
PRODID:-//in Toto - ECPv6.0.12//NONSGML v1.0//EN
CALSCALE:GREGORIAN
METHOD:PUBLISH
X-WR-CALNAME:in Toto
X-ORIGINAL-URL:https://www.parentsintoto.org
X-WR-CALDESC:Events for in Toto
REFRESH-INTERVAL;VALUE=DURATION:PT1H
X-Robots-Tag:noindex
X-PUBLISHED-TTL:PT1H
BEGIN:VTIMEZONE
TZID:America/New_York
BEGIN:DAYLIGHT
TZOFFSETFROM:-0500
TZOFFSETTO:-0400
TZNAME:EDT
DTSTART:20230312T070000
END:DAYLIGHT
BEGIN:STANDARD
TZOFFSETFROM:-0400
TZOFFSETTO:-0500
TZNAME:EST
DTSTART:20231105T060000
END:STANDARD
END:VTIMEZONE
BEGIN:VEVENT
DTSTART;TZID=America/New_York:20231114T173000
DTEND;TZID=America/New_York:20231114T183000
DTSTAMP:20260420T142553
CREATED:20220830T123817Z
LAST-MODIFIED:20250723T222517Z
UID:10001876-1699983000-1699986600@www.parentsintoto.org
SUMMARY:Teen Group\, Online
DESCRIPTION:[vc_row][vc_column][vc_column_text]Join other teens aged 12 to 16 for connecting\, sharing special interests and playing online\, moderated games. This group meets on Zoom.[/vc_column_text][/vc_column][/vc_row][vc_row][vc_column]RSVP Here [/vc_column][/vc_row]
URL:https://www.parentsintoto.org/event/teen-group/2023-11-14
CATEGORIES:Inclusive Autism Programs
ATTACH;FMTTYPE=image/jpeg:https://www.parentsintoto.org/wp-content/uploads/2022/08/in_toto_icons_group.jpg
END:VEVENT
BEGIN:VEVENT
DTSTART;TZID=America/New_York:20231113T173000
DTEND;TZID=America/New_York:20231113T193000
DTSTAMP:20260420T142553
CREATED:20230506T170709Z
LAST-MODIFIED:20250213T000150Z
UID:10003814-1699896600-1699903800@www.parentsintoto.org
SUMMARY:Minecraft Monday
DESCRIPTION:[vc_row][vc_column][vc_column_text]Join Ralph in the Parents in Toto Minecraft (Java Edition) realm Mondays from 5:30-7:30 PM to socialize with friends\, defeat mobs and build your farms![/vc_column_text][/vc_column][/vc_row][vc_row][vc_column]RSVP Here [/vc_column][/vc_row]
URL:https://www.parentsintoto.org/event/minecraft-monday/2023-11-13
CATEGORIES:Inclusive Autism Programs
ATTACH;FMTTYPE=image/png:https://www.parentsintoto.org/wp-content/uploads/2022/08/Inclusive-Autism-Program-ideas-2.png
END:VEVENT
BEGIN:VEVENT
DTSTART;TZID=America/New_York:20231111T140000
DTEND;TZID=America/New_York:20231111T150000
DTSTAMP:20260420T142553
CREATED:20230506T161722Z
LAST-MODIFIED:20241108T202854Z
UID:10003579-1699711200-1699714800@www.parentsintoto.org
SUMMARY:Adventures with Anime
DESCRIPTION:[vc_row][vc_column][vc_column_text]Are you interested in all things anime? Are you 14 or older? Then grab your favorite manga and join us Saturday afternoons to watch movies\, create\, cosplay\, game\, read and share! \n(We know anime comes in variety of storylines\, we will not be sharing M rated anime in group to ensure that all participants have an enjoyable time. )[/vc_column_text][/vc_column][/vc_row][vc_row][vc_column]RSVP Here [/vc_column][/vc_row]
URL:https://www.parentsintoto.org/event/adventures-with-anime/2023-11-11
LOCATION:in Toto Community Resource Center\, 143 S. Main Street\, Zelienople\, PA\, 16063\, United States
CATEGORIES:Inclusive Autism Programs
ATTACH;FMTTYPE=image/png:https://www.parentsintoto.org/wp-content/uploads/2022/08/Inclusive-Autism-Program-ideas-2.png
END:VEVENT
BEGIN:VEVENT
DTSTART;TZID=America/New_York:20231111T120000
DTEND;TZID=America/New_York:20231111T133000
DTSTAMP:20260420T142553
CREATED:20221230T224201Z
LAST-MODIFIED:20240621T223618Z
UID:10002866-1699704000-1699709400@www.parentsintoto.org
SUMMARY:Game Day\, in person
DESCRIPTION:[vc_row][vc_column][vc_column_text]Join us Saturdays at Toto from 12:00-1:30pm for game time! Bring your favorite board\, card or video game to share or play one of ours! \nThe last Saturday of each month\, we are closed but you can join us online for gaming that day![/vc_column_text][/vc_column][/vc_row][vc_row][vc_column]RSVP Here [/vc_column][/vc_row]
URL:https://www.parentsintoto.org/event/game-day-in-person/2023-11-11
LOCATION:in Toto Community Resource Center\, 143 S. Main Street\, Zelienople\, PA\, 16063\, United States
CATEGORIES:Inclusive Autism Programs
ATTACH;FMTTYPE=image/png:https://www.parentsintoto.org/wp-content/uploads/2022/08/Inclusive-Autism-Program-ideas-2.png
END:VEVENT
BEGIN:VEVENT
DTSTART;TZID=America/New_York:20231110T180000
DTEND;TZID=America/New_York:20231110T193000
DTSTAMP:20260420T142553
CREATED:20221228T224302Z
LAST-MODIFIED:20250919T200259Z
UID:10003199-1699639200-1699644600@www.parentsintoto.org
SUMMARY:Adult Group\, in person
DESCRIPTION:[vc_row][vc_column][vc_column_text]Individuals 17 years and older gather to share experiences and friendship. Group members can choose their activities based on mutual interests. Join us in person\, Wednesday and Friday evenings 6:00-7:30pm. \nhttps://calendly.com/iap-intotocommunity \n  \n[/vc_column_text][/vc_column][/vc_row][vc_row][vc_column]RSVP Here [/vc_column][/vc_row]
URL:https://www.parentsintoto.org/event/adult-group-wednesdays-in-person/2023-11-10
CATEGORIES:Inclusive Autism Programs
ATTACH;FMTTYPE=image/png:https://www.parentsintoto.org/wp-content/uploads/2022/08/Inclusive-Autism-Program-ideas-2.png
END:VEVENT
BEGIN:VEVENT
DTSTART;TZID=America/New_York:20231110T163000
DTEND;TZID=America/New_York:20231110T173000
DTSTAMP:20260420T142553
CREATED:20230506T164537Z
LAST-MODIFIED:20250919T200130Z
UID:10003687-1699633800-1699637400@www.parentsintoto.org
SUMMARY:Toto Tools\, 1st through 5th grade
DESCRIPTION:[vc_row][vc_column][vc_column_text]Toto Tools is a structured program designed to aid students in exploring self awareness and self management through cooperative play\, hands on activities and instruction on a range of coping skills and feeling identification! Our curriculum will be customized to participant needs and personalities. Join us the first two Fridays of each month from 4:30-5:30PM.[/vc_column_text][/vc_column][/vc_row][vc_row][vc_column]RSVP Here [/vc_column][/vc_row]
URL:https://www.parentsintoto.org/event/toto-tools-1st-through-5th-grade/2023-11-10
LOCATION:in Toto Community Resource Center\, 143 S. Main Street\, Zelienople\, PA\, 16063\, United States
CATEGORIES:Inclusive Autism Programs
ATTACH;FMTTYPE=image/png:https://www.parentsintoto.org/wp-content/uploads/2022/08/Inclusive-Autism-Program-ideas-2.png
END:VEVENT
BEGIN:VEVENT
DTSTART;TZID=America/New_York:20231110T150000
DTEND;TZID=America/New_York:20231110T153000
DTSTAMP:20260420T142553
CREATED:20221230T230346Z
LAST-MODIFIED:20240621T225108Z
UID:10002745-1699628400-1699630200@www.parentsintoto.org
SUMMARY:Story Time on Facebook with Krystin
DESCRIPTION:[vc_row][vc_column][vc_column_text]Join Krystin and friends Friday afternoon on Facebook for story time![/vc_column_text][/vc_column][/vc_row][vc_row][vc_column]RSVP Here [/vc_column][/vc_row]
URL:https://www.parentsintoto.org/event/story-time-on-facebook-with-krystin/2023-11-10
CATEGORIES:Inclusive Autism Programs
ATTACH;FMTTYPE=image/png:https://www.parentsintoto.org/wp-content/uploads/2022/08/Inclusive-Autism-Program-ideas-2.png
END:VEVENT
BEGIN:VEVENT
DTSTART;TZID=America/New_York:20231109T173000
DTEND;TZID=America/New_York:20231109T193000
DTSTAMP:20260420T142553
CREATED:20220830T133537Z
LAST-MODIFIED:20240320T212236Z
UID:10002321-1699551000-1699558200@www.parentsintoto.org
SUMMARY:Teen and Adult Minecraft Group
DESCRIPTION:[vc_row][vc_column][vc_column_text]Join Krystin in the Parents in Toto Minecraft (Java Edition) realm Thursdays from 5:30-6:30 PM to socialize with friends\, defeat mobs and build your farms! Stay in the realm until 7:30 PM with Ralph and friends![/vc_column_text][/vc_column][/vc_row][vc_row][vc_column]RSVP Here [/vc_column][/vc_row]
URL:https://www.parentsintoto.org/event/minecraft-group-2/2023-11-09
CATEGORIES:Inclusive Autism Programs
ATTACH;FMTTYPE=image/jpeg:https://www.parentsintoto.org/wp-content/uploads/2022/08/in_toto_icons_mindcraft.jpg
END:VEVENT
BEGIN:VEVENT
DTSTART;TZID=America/New_York:20231109T160000
DTEND;TZID=America/New_York:20231109T170000
DTSTAMP:20260420T142553
CREATED:20220830T133230Z
LAST-MODIFIED:20250619T175800Z
UID:10002183-1699545600-1699549200@www.parentsintoto.org
SUMMARY:Elementary Minecraft Group
DESCRIPTION:[vc_row][vc_column][vc_column_text]Join us in the Parents in Toto Minecraft (Java Edition) realm! We will build\, discover and create together! Thursdays\, 4:00-5:00 PM on Zoom![/vc_column_text][/vc_column][/vc_row][vc_row][vc_column]RSVP Here [/vc_column][/vc_row]
URL:https://www.parentsintoto.org/event/elementary-minecraft-group/2023-11-09
CATEGORIES:Inclusive Autism Programs
ATTACH;FMTTYPE=image/jpeg:https://www.parentsintoto.org/wp-content/uploads/2022/08/in_toto_icons_elementary_mindcraft.jpg
END:VEVENT
BEGIN:VEVENT
DTSTART;TZID=America/New_York:20231108T180000
DTEND;TZID=America/New_York:20231108T193000
DTSTAMP:20260420T142553
CREATED:20221228T224302Z
LAST-MODIFIED:20250919T200259Z
UID:10003198-1699466400-1699471800@www.parentsintoto.org
SUMMARY:Adult Group\, in person
DESCRIPTION:[vc_row][vc_column][vc_column_text]Individuals 17 years and older gather to share experiences and friendship. Group members can choose their activities based on mutual interests. Join us in person\, Wednesday and Friday evenings 6:00-7:30pm. \nhttps://calendly.com/iap-intotocommunity \n  \n[/vc_column_text][/vc_column][/vc_row][vc_row][vc_column]RSVP Here [/vc_column][/vc_row]
URL:https://www.parentsintoto.org/event/adult-group-wednesdays-in-person/2023-11-08
CATEGORIES:Inclusive Autism Programs
ATTACH;FMTTYPE=image/png:https://www.parentsintoto.org/wp-content/uploads/2022/08/Inclusive-Autism-Program-ideas-2.png
END:VEVENT
BEGIN:VEVENT
DTSTART;TZID=America/New_York:20231108T163000
DTEND;TZID=America/New_York:20231108T173000
DTSTAMP:20260420T142553
CREATED:20221228T223316Z
LAST-MODIFIED:20250723T222755Z
UID:10002986-1699461000-1699464600@www.parentsintoto.org
SUMMARY:Teen Group\, In Person
DESCRIPTION:[vc_row][vc_column][vc_column_text]Connect with teens ages 13 to 17 and share interests\, ideas and play some games! We will meet in person at Toto on Wednesdays from 4:30-5:30pm![/vc_column_text][/vc_column][/vc_row][vc_row][vc_column]RSVP Here [/vc_column][/vc_row]
URL:https://www.parentsintoto.org/event/teen-group-in-person/2023-11-08
LOCATION:in Toto Community Resource Center\, 143 S. Main Street\, Zelienople\, PA\, 16063\, United States
CATEGORIES:Inclusive Autism Programs
ATTACH;FMTTYPE=image/png:https://www.parentsintoto.org/wp-content/uploads/2022/08/Inclusive-Autism-Program-ideas-2.png
END:VEVENT
BEGIN:VEVENT
DTSTART;TZID=America/New_York:20231107T190000
DTEND;TZID=America/New_York:20231107T200000
DTSTAMP:20260420T142553
CREATED:20220830T124042Z
LAST-MODIFIED:20250919T200538Z
UID:10002013-1699383600-1699387200@www.parentsintoto.org
SUMMARY:Adult Group\, Online
DESCRIPTION:[vc_row][vc_column][vc_column_text]Connect with other young adults in this inclusive\, social group. Share interests\, ideas and games! Ages 18 and up welcome! We meet each Tuesday from 7:00-8:00PM over Zoom.[/vc_column_text][/vc_column][/vc_row][vc_row][vc_column]RSVP Here [/vc_column][/vc_row]
URL:https://www.parentsintoto.org/event/adult-group/2023-11-07
CATEGORIES:Inclusive Autism Programs
ATTACH;FMTTYPE=image/jpeg:https://www.parentsintoto.org/wp-content/uploads/2022/08/in_toto_icons_group.jpg
END:VEVENT
BEGIN:VEVENT
DTSTART;TZID=America/New_York:20231107T173000
DTEND;TZID=America/New_York:20231107T183000
DTSTAMP:20260420T142553
CREATED:20220830T123817Z
LAST-MODIFIED:20250723T222517Z
UID:10001875-1699378200-1699381800@www.parentsintoto.org
SUMMARY:Teen Group\, Online
DESCRIPTION:[vc_row][vc_column][vc_column_text]Join other teens aged 12 to 16 for connecting\, sharing special interests and playing online\, moderated games. This group meets on Zoom.[/vc_column_text][/vc_column][/vc_row][vc_row][vc_column]RSVP Here [/vc_column][/vc_row]
URL:https://www.parentsintoto.org/event/teen-group/2023-11-07
CATEGORIES:Inclusive Autism Programs
ATTACH;FMTTYPE=image/jpeg:https://www.parentsintoto.org/wp-content/uploads/2022/08/in_toto_icons_group.jpg
END:VEVENT
BEGIN:VEVENT
DTSTART;TZID=America/New_York:20231106T173000
DTEND;TZID=America/New_York:20231106T193000
DTSTAMP:20260420T142553
CREATED:20230506T170709Z
LAST-MODIFIED:20250213T000150Z
UID:10003813-1699291800-1699299000@www.parentsintoto.org
SUMMARY:Minecraft Monday
DESCRIPTION:[vc_row][vc_column][vc_column_text]Join Ralph in the Parents in Toto Minecraft (Java Edition) realm Mondays from 5:30-7:30 PM to socialize with friends\, defeat mobs and build your farms![/vc_column_text][/vc_column][/vc_row][vc_row][vc_column]RSVP Here [/vc_column][/vc_row]
URL:https://www.parentsintoto.org/event/minecraft-monday/2023-11-06
CATEGORIES:Inclusive Autism Programs
ATTACH;FMTTYPE=image/png:https://www.parentsintoto.org/wp-content/uploads/2022/08/Inclusive-Autism-Program-ideas-2.png
END:VEVENT
BEGIN:VEVENT
DTSTART;TZID=America/New_York:20231104T140000
DTEND;TZID=America/New_York:20231104T150000
DTSTAMP:20260420T142553
CREATED:20230506T161722Z
LAST-MODIFIED:20241108T202854Z
UID:10003578-1699106400-1699110000@www.parentsintoto.org
SUMMARY:Adventures with Anime
DESCRIPTION:[vc_row][vc_column][vc_column_text]Are you interested in all things anime? Are you 14 or older? Then grab your favorite manga and join us Saturday afternoons to watch movies\, create\, cosplay\, game\, read and share! \n(We know anime comes in variety of storylines\, we will not be sharing M rated anime in group to ensure that all participants have an enjoyable time. )[/vc_column_text][/vc_column][/vc_row][vc_row][vc_column]RSVP Here [/vc_column][/vc_row]
URL:https://www.parentsintoto.org/event/adventures-with-anime/2023-11-04
LOCATION:in Toto Community Resource Center\, 143 S. Main Street\, Zelienople\, PA\, 16063\, United States
CATEGORIES:Inclusive Autism Programs
ATTACH;FMTTYPE=image/png:https://www.parentsintoto.org/wp-content/uploads/2022/08/Inclusive-Autism-Program-ideas-2.png
END:VEVENT
BEGIN:VEVENT
DTSTART;TZID=America/New_York:20231104T120000
DTEND;TZID=America/New_York:20231104T133000
DTSTAMP:20260420T142553
CREATED:20221230T224201Z
LAST-MODIFIED:20240621T223618Z
UID:10002865-1699099200-1699104600@www.parentsintoto.org
SUMMARY:Game Day\, in person
DESCRIPTION:[vc_row][vc_column][vc_column_text]Join us Saturdays at Toto from 12:00-1:30pm for game time! Bring your favorite board\, card or video game to share or play one of ours! \nThe last Saturday of each month\, we are closed but you can join us online for gaming that day![/vc_column_text][/vc_column][/vc_row][vc_row][vc_column]RSVP Here [/vc_column][/vc_row]
URL:https://www.parentsintoto.org/event/game-day-in-person/2023-11-04
LOCATION:in Toto Community Resource Center\, 143 S. Main Street\, Zelienople\, PA\, 16063\, United States
CATEGORIES:Inclusive Autism Programs
ATTACH;FMTTYPE=image/png:https://www.parentsintoto.org/wp-content/uploads/2022/08/Inclusive-Autism-Program-ideas-2.png
END:VEVENT
BEGIN:VEVENT
DTSTART;TZID=America/New_York:20231103T180000
DTEND;TZID=America/New_York:20231103T193000
DTSTAMP:20260420T142553
CREATED:20221228T224302Z
LAST-MODIFIED:20250919T200259Z
UID:10003197-1699034400-1699039800@www.parentsintoto.org
SUMMARY:Adult Group\, in person
DESCRIPTION:[vc_row][vc_column][vc_column_text]Individuals 17 years and older gather to share experiences and friendship. Group members can choose their activities based on mutual interests. Join us in person\, Wednesday and Friday evenings 6:00-7:30pm. \nhttps://calendly.com/iap-intotocommunity \n  \n[/vc_column_text][/vc_column][/vc_row][vc_row][vc_column]RSVP Here [/vc_column][/vc_row]
URL:https://www.parentsintoto.org/event/adult-group-wednesdays-in-person/2023-11-03
CATEGORIES:Inclusive Autism Programs
ATTACH;FMTTYPE=image/png:https://www.parentsintoto.org/wp-content/uploads/2022/08/Inclusive-Autism-Program-ideas-2.png
END:VEVENT
BEGIN:VEVENT
DTSTART;TZID=America/New_York:20231103T163000
DTEND;TZID=America/New_York:20231103T173000
DTSTAMP:20260420T142553
CREATED:20230506T164537Z
LAST-MODIFIED:20250919T200130Z
UID:10003686-1699029000-1699032600@www.parentsintoto.org
SUMMARY:Toto Tools\, 1st through 5th grade
DESCRIPTION:[vc_row][vc_column][vc_column_text]Toto Tools is a structured program designed to aid students in exploring self awareness and self management through cooperative play\, hands on activities and instruction on a range of coping skills and feeling identification! Our curriculum will be customized to participant needs and personalities. Join us the first two Fridays of each month from 4:30-5:30PM.[/vc_column_text][/vc_column][/vc_row][vc_row][vc_column]RSVP Here [/vc_column][/vc_row]
URL:https://www.parentsintoto.org/event/toto-tools-1st-through-5th-grade/2023-11-03
LOCATION:in Toto Community Resource Center\, 143 S. Main Street\, Zelienople\, PA\, 16063\, United States
CATEGORIES:Inclusive Autism Programs
ATTACH;FMTTYPE=image/png:https://www.parentsintoto.org/wp-content/uploads/2022/08/Inclusive-Autism-Program-ideas-2.png
END:VEVENT
BEGIN:VEVENT
DTSTART;TZID=America/New_York:20231103T150000
DTEND;TZID=America/New_York:20231103T153000
DTSTAMP:20260420T142553
CREATED:20221230T230346Z
LAST-MODIFIED:20240621T225108Z
UID:10002744-1699023600-1699025400@www.parentsintoto.org
SUMMARY:Story Time on Facebook with Krystin
DESCRIPTION:[vc_row][vc_column][vc_column_text]Join Krystin and friends Friday afternoon on Facebook for story time![/vc_column_text][/vc_column][/vc_row][vc_row][vc_column]RSVP Here [/vc_column][/vc_row]
URL:https://www.parentsintoto.org/event/story-time-on-facebook-with-krystin/2023-11-03
CATEGORIES:Inclusive Autism Programs
ATTACH;FMTTYPE=image/png:https://www.parentsintoto.org/wp-content/uploads/2022/08/Inclusive-Autism-Program-ideas-2.png
END:VEVENT
BEGIN:VEVENT
DTSTART;TZID=America/New_York:20231102T173000
DTEND;TZID=America/New_York:20231102T193000
DTSTAMP:20260420T142553
CREATED:20220830T133537Z
LAST-MODIFIED:20240320T212236Z
UID:10002320-1698946200-1698953400@www.parentsintoto.org
SUMMARY:Teen and Adult Minecraft Group
DESCRIPTION:[vc_row][vc_column][vc_column_text]Join Krystin in the Parents in Toto Minecraft (Java Edition) realm Thursdays from 5:30-6:30 PM to socialize with friends\, defeat mobs and build your farms! Stay in the realm until 7:30 PM with Ralph and friends![/vc_column_text][/vc_column][/vc_row][vc_row][vc_column]RSVP Here [/vc_column][/vc_row]
URL:https://www.parentsintoto.org/event/minecraft-group-2/2023-11-02
CATEGORIES:Inclusive Autism Programs
ATTACH;FMTTYPE=image/jpeg:https://www.parentsintoto.org/wp-content/uploads/2022/08/in_toto_icons_mindcraft.jpg
END:VEVENT
BEGIN:VEVENT
DTSTART;TZID=America/New_York:20231102T160000
DTEND;TZID=America/New_York:20231102T170000
DTSTAMP:20260420T142553
CREATED:20220830T133230Z
LAST-MODIFIED:20250619T175800Z
UID:10002182-1698940800-1698944400@www.parentsintoto.org
SUMMARY:Elementary Minecraft Group
DESCRIPTION:[vc_row][vc_column][vc_column_text]Join us in the Parents in Toto Minecraft (Java Edition) realm! We will build\, discover and create together! Thursdays\, 4:00-5:00 PM on Zoom![/vc_column_text][/vc_column][/vc_row][vc_row][vc_column]RSVP Here [/vc_column][/vc_row]
URL:https://www.parentsintoto.org/event/elementary-minecraft-group/2023-11-02
CATEGORIES:Inclusive Autism Programs
ATTACH;FMTTYPE=image/jpeg:https://www.parentsintoto.org/wp-content/uploads/2022/08/in_toto_icons_elementary_mindcraft.jpg
END:VEVENT
BEGIN:VEVENT
DTSTART;TZID=America/New_York:20231101T180000
DTEND;TZID=America/New_York:20231101T193000
DTSTAMP:20260420T142553
CREATED:20221228T224302Z
LAST-MODIFIED:20250919T200259Z
UID:10003196-1698861600-1698867000@www.parentsintoto.org
SUMMARY:Adult Group\, in person
DESCRIPTION:[vc_row][vc_column][vc_column_text]Individuals 17 years and older gather to share experiences and friendship. Group members can choose their activities based on mutual interests. Join us in person\, Wednesday and Friday evenings 6:00-7:30pm. \nhttps://calendly.com/iap-intotocommunity \n  \n[/vc_column_text][/vc_column][/vc_row][vc_row][vc_column]RSVP Here [/vc_column][/vc_row]
URL:https://www.parentsintoto.org/event/adult-group-wednesdays-in-person/2023-11-01
CATEGORIES:Inclusive Autism Programs
ATTACH;FMTTYPE=image/png:https://www.parentsintoto.org/wp-content/uploads/2022/08/Inclusive-Autism-Program-ideas-2.png
END:VEVENT
BEGIN:VEVENT
DTSTART;TZID=America/New_York:20231101T163000
DTEND;TZID=America/New_York:20231101T173000
DTSTAMP:20260420T142553
CREATED:20221228T223316Z
LAST-MODIFIED:20250723T222755Z
UID:10002985-1698856200-1698859800@www.parentsintoto.org
SUMMARY:Teen Group\, In Person
DESCRIPTION:[vc_row][vc_column][vc_column_text]Connect with teens ages 13 to 17 and share interests\, ideas and play some games! We will meet in person at Toto on Wednesdays from 4:30-5:30pm![/vc_column_text][/vc_column][/vc_row][vc_row][vc_column]RSVP Here [/vc_column][/vc_row]
URL:https://www.parentsintoto.org/event/teen-group-in-person/2023-11-01
LOCATION:in Toto Community Resource Center\, 143 S. Main Street\, Zelienople\, PA\, 16063\, United States
CATEGORIES:Inclusive Autism Programs
ATTACH;FMTTYPE=image/png:https://www.parentsintoto.org/wp-content/uploads/2022/08/Inclusive-Autism-Program-ideas-2.png
END:VEVENT
BEGIN:VEVENT
DTSTART;TZID=America/New_York:20231031T190000
DTEND;TZID=America/New_York:20231031T200000
DTSTAMP:20260420T142554
CREATED:20220830T124042Z
LAST-MODIFIED:20250919T200538Z
UID:10002012-1698778800-1698782400@www.parentsintoto.org
SUMMARY:Adult Group\, Online
DESCRIPTION:[vc_row][vc_column][vc_column_text]Connect with other young adults in this inclusive\, social group. Share interests\, ideas and games! Ages 18 and up welcome! We meet each Tuesday from 7:00-8:00PM over Zoom.[/vc_column_text][/vc_column][/vc_row][vc_row][vc_column]RSVP Here [/vc_column][/vc_row]
URL:https://www.parentsintoto.org/event/adult-group/2023-10-31
CATEGORIES:Inclusive Autism Programs
ATTACH;FMTTYPE=image/jpeg:https://www.parentsintoto.org/wp-content/uploads/2022/08/in_toto_icons_group.jpg
END:VEVENT
BEGIN:VEVENT
DTSTART;TZID=America/New_York:20231031T173000
DTEND;TZID=America/New_York:20231031T183000
DTSTAMP:20260420T142554
CREATED:20220830T123817Z
LAST-MODIFIED:20250723T222517Z
UID:10001874-1698773400-1698777000@www.parentsintoto.org
SUMMARY:Teen Group\, Online
DESCRIPTION:[vc_row][vc_column][vc_column_text]Join other teens aged 12 to 16 for connecting\, sharing special interests and playing online\, moderated games. This group meets on Zoom.[/vc_column_text][/vc_column][/vc_row][vc_row][vc_column]RSVP Here [/vc_column][/vc_row]
URL:https://www.parentsintoto.org/event/teen-group/2023-10-31
CATEGORIES:Inclusive Autism Programs
ATTACH;FMTTYPE=image/jpeg:https://www.parentsintoto.org/wp-content/uploads/2022/08/in_toto_icons_group.jpg
END:VEVENT
BEGIN:VEVENT
DTSTART;TZID=America/New_York:20231030T173000
DTEND;TZID=America/New_York:20231030T193000
DTSTAMP:20260420T142554
CREATED:20230506T170709Z
LAST-MODIFIED:20250213T000150Z
UID:10003812-1698687000-1698694200@www.parentsintoto.org
SUMMARY:Minecraft Monday
DESCRIPTION:[vc_row][vc_column][vc_column_text]Join Ralph in the Parents in Toto Minecraft (Java Edition) realm Mondays from 5:30-7:30 PM to socialize with friends\, defeat mobs and build your farms![/vc_column_text][/vc_column][/vc_row][vc_row][vc_column]RSVP Here [/vc_column][/vc_row]
URL:https://www.parentsintoto.org/event/minecraft-monday/2023-10-30
CATEGORIES:Inclusive Autism Programs
ATTACH;FMTTYPE=image/png:https://www.parentsintoto.org/wp-content/uploads/2022/08/Inclusive-Autism-Program-ideas-2.png
END:VEVENT
BEGIN:VEVENT
DTSTART;TZID=America/New_York:20231028T140000
DTEND;TZID=America/New_York:20231028T150000
DTSTAMP:20260420T142554
CREATED:20230506T162819Z
LAST-MODIFIED:20241004T205135Z
UID:10003643-1698501600-1698505200@www.parentsintoto.org
SUMMARY:Online Adventures with Anime
DESCRIPTION:[vc_row][vc_column][vc_column_text]Are you interested in all things anime? Are you 14 or older? Then grab your favorite manga and join us Saturday afternoons to watch movies\, create\, cosplay\, game\, read and share! \n(We know anime comes in variety of storylines\, we will not be sharing M rated anime in group to ensure that all participants have an enjoyable time. )[/vc_column_text][/vc_column][/vc_row][vc_row][vc_column]RSVP Here [/vc_column][/vc_row]
URL:https://www.parentsintoto.org/event/online-adventures-with-anime/2023-10-28
CATEGORIES:Inclusive Autism Programs
ATTACH;FMTTYPE=image/png:https://www.parentsintoto.org/wp-content/uploads/2022/08/Inclusive-Autism-Program-ideas-2.png
END:VEVENT
BEGIN:VEVENT
DTSTART;TZID=America/New_York:20231028T120000
DTEND;TZID=America/New_York:20231028T133000
DTSTAMP:20260420T142554
CREATED:20220830T135414Z
LAST-MODIFIED:20241004T203722Z
UID:10002403-1698494400-1698499800@www.parentsintoto.org
SUMMARY:Game Day\, Online
DESCRIPTION:[vc_row][vc_column][vc_column_text]Join us for Game Day on Zoom the last Saturday each month from 12-1:30pm![/vc_column_text][/vc_column][/vc_row][vc_row][vc_column]RSVP Here [/vc_column][/vc_row]
URL:https://www.parentsintoto.org/event/game-day/2023-10-28
CATEGORIES:Inclusive Autism Programs
ATTACH;FMTTYPE=image/jpeg:https://www.parentsintoto.org/wp-content/uploads/2022/08/in_toto_icons_game_day.jpg
END:VEVENT
BEGIN:VEVENT
DTSTART;TZID=America/New_York:20231027T180000
DTEND;TZID=America/New_York:20231027T193000
DTSTAMP:20260420T142554
CREATED:20221228T224302Z
LAST-MODIFIED:20250919T200259Z
UID:10003195-1698429600-1698435000@www.parentsintoto.org
SUMMARY:Adult Group\, in person
DESCRIPTION:[vc_row][vc_column][vc_column_text]Individuals 17 years and older gather to share experiences and friendship. Group members can choose their activities based on mutual interests. Join us in person\, Wednesday and Friday evenings 6:00-7:30pm. \nhttps://calendly.com/iap-intotocommunity \n  \n[/vc_column_text][/vc_column][/vc_row][vc_row][vc_column]RSVP Here [/vc_column][/vc_row]
URL:https://www.parentsintoto.org/event/adult-group-wednesdays-in-person/2023-10-27
CATEGORIES:Inclusive Autism Programs
ATTACH;FMTTYPE=image/png:https://www.parentsintoto.org/wp-content/uploads/2022/08/Inclusive-Autism-Program-ideas-2.png
END:VEVENT
BEGIN:VEVENT
DTSTART;TZID=America/New_York:20231027T163000
DTEND;TZID=America/New_York:20231027T173000
DTSTAMP:20260420T142554
CREATED:20230506T164849Z
LAST-MODIFIED:20250619T175947Z
UID:10003735-1698424200-1698427800@www.parentsintoto.org
SUMMARY:Toto Tools\, 6th through 12th grade
DESCRIPTION:[vc_row][vc_column][vc_column_text]Toto Tools is a structured program designed to aid students in exploring self awareness and self management through cooperative play\, hands on activities and instruction on a range of coping skills and feeling identification! Our curriculum will be customized to participant needs and personalities. Join us the last two Fridays of each month from 4:30-5:30PM.[/vc_column_text][/vc_column][/vc_row][vc_row][vc_column]RSVP Here [/vc_column][/vc_row]
URL:https://www.parentsintoto.org/event/toto-tools-6th-through-12th-grade/2023-10-27
LOCATION:in Toto Community Resource Center\, 143 S. Main Street\, Zelienople\, PA\, 16063\, United States
CATEGORIES:Inclusive Autism Programs
ATTACH;FMTTYPE=image/png:https://www.parentsintoto.org/wp-content/uploads/2022/08/Inclusive-Autism-Program-ideas-2.png
END:VEVENT
END:VCALENDAR